BEGIN:VCALENDAR
VERSION:2.0
PRODID:dcpsc.org
CALSCALE:GREGORIAN
METHOD:PUBLISH
BEGIN:VEVENT
DTSTART:20220428T150000
DTEND:20220428T170000
SUMMARY:DCPSC - GD-2020-02-M - Governance Board Meeting
LOCATION:WebEx
DESCRIPTION:GD-2020-02-M - Governance Board Meeting is scheduled to happen on 4/28/2022.
PRIORITY:3
END:VEVENT
END:VCALENDAR
