BEGIN:VCALENDAR
VERSION:2.0
PRODID:dcpsc.org
CALSCALE:GREGORIAN
METHOD:PUBLISH
BEGIN:VEVENT
DTSTART:20220419T130000
DTEND:20220419T132000
SUMMARY:DCPSC - AARP Chapter 4194
LOCATION:Teleconference
DESCRIPTION:AARP Chapter 4194 is scheduled to happen on 4/19/2022.
PRIORITY:3
END:VEVENT
END:VCALENDAR
