BEGIN:VCALENDAR
VERSION:2.0
PRODID:dcpsc.org
CALSCALE:GREGORIAN
METHOD:PUBLISH
BEGIN:VEVENT
DTSTART:20220120T100000
DTEND:
SUMMARY:DCPSC - FC1156 - Bill Stabilization Adjustment Technical Conference
LOCATION:WebEx
DESCRIPTION:FC1156 - Bill Stabilization Adjustment Technical Conference is scheduled to happen on 1/20/2022.
PRIORITY:3
END:VEVENT
END:VCALENDAR
