BEGIN:VCALENDAR
VERSION:2.0
PRODID:dcpsc.org
CALSCALE:GREGORIAN
METHOD:PUBLISH
BEGIN:VEVENT
DTSTART:20221214T140000
DTEND:20221214T143000
SUMMARY:DCPSC - Open Commission Meeting for December 14, 2022
LOCATION:D.C. Public Service Commission<br />
1325 14th Street, NW Suite 800<br />
Washington, DC 20005
DESCRIPTION:Open Commission Meeting for December 14, 2022 is scheduled to happen on 12/14/2022.
PRIORITY:3
END:VEVENT
END:VCALENDAR
