BEGIN:VCALENDAR
VERSION:2.0
PRODID:dcpsc.org
CALSCALE:GREGORIAN
METHOD:PUBLISH
BEGIN:VEVENT
DTSTART:20220420T140000
DTEND:20220420T143000
SUMMARY:DCPSC - Open Commission Meeting for April 20, 2022
LOCATION:WebEx
DESCRIPTION:Open Commission Meeting for April 20, 2022 is scheduled to happen on 4/20/2022.
PRIORITY:3
END:VEVENT
END:VCALENDAR
