BEGIN:VCALENDAR
VERSION:2.0
PRODID:dcpsc.org
CALSCALE:GREGORIAN
METHOD:PUBLISH
BEGIN:VEVENT
DTSTART:20211208T140000
DTEND:20211209T143000
SUMMARY:DCPSC - Open Commission Meeting for December 8th
LOCATION:Not Available on WebEx
DESCRIPTION:Open Commission Meeting for December 8th is scheduled to happen on 12/8/2021.
PRIORITY:3
END:VEVENT
END:VCALENDAR
