BEGIN:VCALENDAR
VERSION:2.0
PRODID:dcpsc.org
CALSCALE:GREGORIAN
METHOD:PUBLISH
BEGIN:VEVENT
DTSTART:20220309T140000
DTEND:20220309T143000
SUMMARY:DCPSC - Open Commission Meeting for March 9th 
LOCATION:Web Ex
DESCRIPTION:Open Commission Meeting for March 9th  is scheduled to happen on 3/9/2022.
PRIORITY:3
END:VEVENT
END:VCALENDAR
