BEGIN:VCALENDAR
VERSION:2.0
PRODID:dcpsc.org
CALSCALE:GREGORIAN
METHOD:PUBLISH
BEGIN:VEVENT
DTSTART:20220222T140000
DTEND:20220222T143000
SUMMARY:DCPSC -  Open Commission Meeting for February 22nd
LOCATION:Web Ex
DESCRIPTION: Open Commission Meeting for February 22nd is scheduled to happen on 2/22/2022.
PRIORITY:3
END:VEVENT
END:VCALENDAR
