BEGIN:VCALENDAR
VERSION:2.0
PRODID:dcpsc.org
CALSCALE:GREGORIAN
METHOD:PUBLISH
BEGIN:VEVENT
DTSTART:20211215T100000
DTEND:20211215T140000
SUMMARY:DCPSC - Mayor Muriel Bowser's 23rd Annual Senior Holiday Celebration
LOCATION:Walter E. Washington Convention Center<br />
801 Mt. Vernon Place, N.W.
DESCRIPTION:Mayor Muriel Bowser's 23rd Annual Senior Holiday Celebration is scheduled to happen on 12/15/2021.
PRIORITY:3
END:VEVENT
END:VCALENDAR
