BEGIN:VCALENDAR
VERSION:2.0
PRODID:dcpsc.org
CALSCALE:GREGORIAN
METHOD:PUBLISH
BEGIN:VEVENT
DTSTART:20211201T100000
DTEND:20211201T150000
SUMMARY:DCPSC - World AIDS Day Wellness Fair
LOCATION:Providence Health Services<br />
1150 Varnum Street, N.E.<br />
Washington, DC
DESCRIPTION:World AIDS Day Wellness Fair is scheduled to happen on 12/1/2021.
PRIORITY:3
END:VEVENT
END:VCALENDAR
